BEGIN:VCALENDAR
VERSION:2.0
PRODID:-//L&#039;Ombrière, Pays d’Uzès - ECPv6.15.20//NONSGML v1.0//EN
CALSCALE:GREGORIAN
METHOD:PUBLISH
X-WR-CALNAME:L&#039;Ombrière, Pays d’Uzès
X-ORIGINAL-URL:https://lombriere.fr
X-WR-CALDESC:Évènements pour L&#039;Ombrière, Pays d’Uzès
REFRESH-INTERVAL;VALUE=DURATION:PT1H
X-Robots-Tag:noindex
X-PUBLISHED-TTL:PT1H
BEGIN:VTIMEZONE
TZID:Europe/Paris
BEGIN:DAYLIGHT
TZOFFSETFROM:+0100
TZOFFSETTO:+0200
TZNAME:CEST
DTSTART:20250330T010000
END:DAYLIGHT
BEGIN:STANDARD
TZOFFSETFROM:+0200
TZOFFSETTO:+0100
TZNAME:CET
DTSTART:20251026T010000
END:STANDARD
BEGIN:DAYLIGHT
TZOFFSETFROM:+0100
TZOFFSETTO:+0200
TZNAME:CEST
DTSTART:20260329T010000
END:DAYLIGHT
BEGIN:STANDARD
TZOFFSETFROM:+0200
TZOFFSETTO:+0100
TZNAME:CET
DTSTART:20261025T010000
END:STANDARD
BEGIN:DAYLIGHT
TZOFFSETFROM:+0100
TZOFFSETTO:+0200
TZNAME:CEST
DTSTART:20270328T010000
END:DAYLIGHT
BEGIN:STANDARD
TZOFFSETFROM:+0200
TZOFFSETTO:+0100
TZNAME:CET
DTSTART:20271031T010000
END:STANDARD
END:VTIMEZONE
BEGIN:VEVENT
DTSTART;TZID=Europe/Paris:20260506T210000
DTEND;TZID=Europe/Paris:20260506T230000
DTSTAMP:20260423T093247
CREATED:20250227T110018Z
LAST-MODIFIED:20260422T121121Z
UID:8549-1778101200-1778108400@lombriere.fr
SUMMARY:Alex Lutz
DESCRIPTION:Évènement\n				\n			\n			\n				\n				\n				\n				\n			\n				\n				\n			\n				\n				\n				\n				\n				\n				\n				\n				\n				\n				\n				\n				\n				\n				\n				\n				\n				\n				ALEX LUTZ\nSEXE\, GROG ET ROCKING CHAIR\nFESTIVAL UZÈS SEULS EN SCÈNE \nMercredi 6 mai 202621H – THÉÂTRE\nLa Fabrique\n! PLACEMENT LIBRE !\nDurée : 1h40\n  \nÀ partir de 13 ans \n			\n				\n				\n				\n				\n				 réserver Informations covid\n			\n				\n				\n				\n				\n				Nous invitons les personnes à mobilité réduite ou rencontrant des difficultés à se déplacer\, à prendre contact avec le service billetterie afin de pouvoir les accueillir dans les meilleures conditions. \n			\n			\n				\n				\n				\n				\n				\n			\n				\n				\n				\n				\n			\n				\n				\n			\n				\n				\n				\n				\n				\n				\n				\n				\n				\n				\n				\n				\n				\n				\n				\n				\n				\n				ALEX LUTZ – SEXE\, GROG ET ROCKING CHAIR\nDANS LE CADRE DU FESTIVAL UZÈS SEULS EN SCÈNE #4\nMISE EN SCÈNE : TOM DINGLER \nAprès le succès de ses deux précédents spectacles récompensés des Molières de l’Humour 2016 et 2020\, Alex Lutz remonte sur scène plus rock que jamais (ou pas) pour son troisième spectacle. \n« On galope\, on se débrouille\, on flashcode\, on motdepasse\, on upload\, on wifise\, on capte pas\, on est plouc\, on plug\, on cloud\, on protège ses données\, on data-centre\, on se recentre\, on inspire par le ventre\, on reboot\, on marche en forêt\, on influe\, on transfère\, on libère\, on aime la terre\, on est off\, on est suivi\, on se retourne peu\, on se bienveillance\, on se résilience\, on se détoxe\, on a tout trié\, on est une belle âme\, on pronote\, on revit\, on galope\, on galope\, on galope. On enterre son père et on rock’n roll ce qu’il en reste… mais on rigole. »\nAlex Lutz \nen partenariat avec l’ADAMI \n			\n			\n				\n				\n				\n				\n				\n			\n				\n				\n				\n				\n			\n				\n				\n			\n				\n				\n				\n				\n				\n				\n				\n				\n				\n				\n				\n				\n				\n				\n				\n				\n				\n				Billetterie Weezevent\n			\n			\n				\n				\n				\n				\n			\n				\n				\n			\n				\n				\n				\n				\n				\n				\n				\n				\n				\n				\n				\n				\n				\n				\n				\n				\n				\n				INFO COVID\nEn cas de report des spectacles\, les places achetées resteront valables à la date reportée. Merci de conserver vos e-billets. Aussi\, en cas d’annulation du spectacle\, un remboursement sera effectué. \nL’accès à L’Ombrière se fera sur présentation d’un pass sanitaire\,\nsoit :\n– un test négatif de moins de 48h\n– un certificat d’immunité (il s’agit d’un test RT-PCR ou antigénique positif attestant du rétablissement de la Covid-19\, datant d’au moins 15 jours et de moins de 6 mois).\n– un acte de vaccination (schéma complet). \nPour tous renseignements\, veuillez-vous adresser à la billetterie de L’Ombrière à billetterie.ombriere@ccpaysduzes.fr
URL:https://lombriere.fr/event/alex-lutz/
CATEGORIES:2526,FUSS,Théâtre
ATTACH;FMTTYPE=image/png:https://lombriere.fr/wp-content/uploads/2025/02/COMPLET.png
END:VEVENT
BEGIN:VEVENT
DTSTART;TZID=Europe/Paris:20260507T210000
DTEND;TZID=Europe/Paris:20260507T230000
DTSTAMP:20260423T093247
CREATED:20251218T102430Z
LAST-MODIFIED:20260327T120639Z
UID:8531-1778187600-1778194800@lombriere.fr
SUMMARY:Marie-Claude Pietragalla - Barbara
DESCRIPTION:Évènement\n				\n			\n			\n				\n				\n				\n				\n			\n				\n				\n			\n				\n				\n				\n				\n				\n				\n				\n				\n				\n				\n				\n				\n				\n				\n				\n				\n				\n				MARIE-CLAUDE PIETRAGALLA\nBARBARA \nFESTIVAL UZÈS SEULS EN SCÈNE \nJeudi 7 mai 202621H – DANSE\nLa FabriquePlacement numéroté\nDe 21 € à 44 €Durée : 1h15\n			\n				\n				\n				\n				\n				 réserver Informations covid\n			\n				\n				\n				\n				\n				Nous invitons les personnes à mobilité réduite ou rencontrant des difficultés à se déplacer\, à prendre contact avec le service billetterie afin de pouvoir les accueillir dans les meilleures conditions. \n			\n			\n				\n				\n				\n				\n				\n			\n				\n				\n				\n				\n			\n				\n				\n			\n				\n				\n				\n				\n				\n				\n				\n				\n				\n				\n				\n				\n				\n				\n				\n				\n				\n				MARIE-CLAUDE PIETRAGALLA – BARBARA\nDANS LE CADRE DU FESTIVAL UZÈS SEULS EN SCÈNE #4CHORÉGRAPHIE ET MISE EN SCÈNE : MARIE-CLAUDE PIETRAGALLA & JULIEN DEROUAULT \nUN HOMMAGE VIBRANT À UNE ARTISTE INOUBLIABLE. \nMarie-Claude Pietragalla\, célèbre danseuse et chorégraphe\, se métamorphose sur scène pour incarner la légendaire chanteuse Barbara. Dans ce spectacle magistral\, elle devient le reflet vivant de l’icône musicale\, transportant le public dans l’univers poétique et mélancolique de la chanteuse. \nA travers chaque mouvement\, chaque geste et chaque expression\, Pietragalla révèle la profondeur des émotions qui ont marqué la musique de Barbara. Sa danse devient un langage vibrant\, traduisant les paroles et les mélodies emblématiques de l’artiste. \nLes souvenirs\, les joies et les peines se matérialisent dans chaque pas\, offrant au public une expérience visuelle et émotionnelle unique. \nen partenariat avec l’ADAMI \n			\n			\n				\n				\n				\n				\n				\n			\n				\n				\n				\n				\n			\n				\n				\n			\n				\n				\n				\n				\n				\n				\n				\n				\n				\n				\n				\n				\n				\n				\n				\n				\n				\n				Billetterie Weezevent\n			\n			\n				\n				\n				\n				\n			\n				\n				\n			\n				\n				\n				\n				\n				\n				\n				\n				\n				\n				\n				\n				\n				\n				\n				\n				\n				\n				INFO COVID\nEn cas de report des spectacles\, les places achetées resteront valables à la date reportée. Merci de conserver vos e-billets. Aussi\, en cas d’annulation du spectacle\, un remboursement sera effectué. \nL’accès à L’Ombrière se fera sur présentation d’un pass sanitaire\,\nsoit :\n– un test négatif de moins de 48h\n– un certificat d’immunité (il s’agit d’un test RT-PCR ou antigénique positif attestant du rétablissement de la Covid-19\, datant d’au moins 15 jours et de moins de 6 mois).\n– un acte de vaccination (schéma complet). \nPour tous renseignements\, veuillez-vous adresser à la billetterie de L’Ombrière à billetterie.ombriere@ccpaysduzes.fr
URL:https://lombriere.fr/event/marie-claude-pietragalla-barbara/
CATEGORIES:2526,Danse,FUSS
ATTACH;FMTTYPE=image/png:https://lombriere.fr/wp-content/uploads/2025/12/pietragalla.png
END:VEVENT
BEGIN:VEVENT
DTSTART;TZID=Europe/Paris:20260508T110000
DTEND;TZID=Europe/Paris:20260508T130000
DTSTAMP:20260423T093247
CREATED:20260331T141313Z
LAST-MODIFIED:20260331T145718Z
UID:8684-1778238000-1778245200@lombriere.fr
SUMMARY:MASTERCLASS DANIÈLE THOMSON
DESCRIPTION:Évènement\n				\n			\n			\n				\n				\n				\n				\n			\n				\n				\n			\n				\n				\n				\n				\n				\n				\n				\n				\n				\n				\n				\n				\n				\n				\n				\n				\n				\n				\nMASTERCLASS DANIÈLE THOMSON\nAnimée par Karim Ghiyati  \n  \n \nVendredi 8 mai 202611H00 – CONFÉRENCE\nLe CapitolePlacement libre\n8 euros\nLes fonds seront reversés à la Banque alimentaire du Gard. \n\n			\n				\n				\n				\n				\n				 réserver Informations covid\n			\n				\n				\n				\n				\n				\n				\n				\n				\n				\n				Nous invitons les personnes à mobilité réduite ou rencontrant des difficultés à se déplacer\, à prendre contact avec le service billetterie afin de pouvoir les accueillir dans les meilleures conditions. \n			\n			\n			\n				\n				\n				\n				\n				\n			\n				\n				\n				\n				\n			\n				\n				\n			\n				\n				\n				\n				\n				\n				\n				\n				\n				\n				\n				\n				\n				\n				\n				\n				\n				\n				DANS LE CADRE DU FESTIVAL UZÈS SEULS EN SCÈNE #4ANIMÉE PAR KARIM GHIYATI\, DIRECTEUR D’OCCITANIE FILMSRECETTE INTÉGRALEMENT REVERSÉES AU PROFIT DE LA BANQUE ALIMENTAIRE \n			\n				\n				\n				\n				\n				Scénariste et réalisatrice reconnue (Bardot\, Cézanne et moi\, Le code a changé…)\, Danièle Thompson a façonné des œuvres devenues cultes grâce à son sens unique du dialogue\, son regard affûté sur les relations humaines et son art de mêler humour\, émotion et finesse. Entre anecdotes de tournage\, réflexions sur le métier et conseils précieux\, profitez d’une rare immersion dans l’univers d’une créatrice passionnée et exigeante. Une rencontre privilégiée pour comprendre comment naissent les histoires\, comment elles se transforment en images\, et comment une voix singulière peut devenir une signature incontournable du cinéma. \n \nEn partenariat avec l’ADAMI \n			\n			\n				\n				\n				\n				\n				\n			\n				\n				\n				\n				\n			\n				\n				\n				\n				\n				\n				\n								\n					\n												← Précédent\n					\n				\n			\n			\n			\n				\n				\n				\n				\n			\n				\n				\n			\n				\n				\n				\n				\n				\n				\n				\n				\n				\n				\n				\n				\n				\n				\n				\n				\n				\n				Billetterie Weezevent\n\n\n\n			\n			\n				\n				\n				\n				\n			\n				\n				\n			\n				\n				\n				\n				\n				\n				\n				\n				\n				\n				\n				\n				\n				\n				\n				\n				\n				\n				\n				\n				\n				\n				\n				INFO COVID\nEn cas de report des spectacles\, les places achetées resteront valables à la date reportée. Merci de conserver vos e-billets. Aussi\, en cas d’annulation du spectacle\, un remboursement sera effectué. \nL’accès à L’Ombrière se fera sur présentation d’un pass vaccinal\,soit :- Une certification de vaccination (schéma vaccinal complet\, dose de rappel comprise dans le délai imparti pour les personnes à partir de 18 ans et 1 mois qui y sont éligibles) ;- Un certificat de rétablissement de plus de 11 jours et moins de six mois ;- Un certificat de contre-indication à la vaccination \nPour tous renseignements\, veuillez-vous adresser à la billetterie de L’Ombrière à billetterie.ombriere@ccpaysduzes.fr
URL:https://lombriere.fr/event/masterclass-daniele-thomson/
CATEGORIES:2526,FUSS
ATTACH;FMTTYPE=image/jpeg:https://lombriere.fr/wp-content/uploads/2026/03/daniele-thompson-wallpaper_19464_13781-3.jpg
END:VEVENT
BEGIN:VEVENT
DTSTART;TZID=Europe/Paris:20260508T180000
DTEND;TZID=Europe/Paris:20260508T200000
DTSTAMP:20260423T093248
CREATED:20251218T112607Z
LAST-MODIFIED:20260327T120803Z
UID:8542-1778263200-1778270400@lombriere.fr
SUMMARY:PHILIPPE CAVERIVIÈRE - TU CROIS QUE C'EST UNE BONNE IDÉE ?
DESCRIPTION:Évènement\n				\n			\n			\n				\n				\n				\n				\n			\n				\n				\n			\n				\n				\n				\n				\n				\n				\n				\n				\n				\n				\n				\n				\n				\n				\n				\n				\n				\n				PHILIPPE CAVERIVIÈRE\nTU CROIS QUE C’EST UNE BONNE IDÉE ?\nFESTIVAL UZÈS SEULS EN SCÈNE \nVendredi 8 mai 202618H – HUMOUR\nPlacement numéroté\nDe 18 € à 32 €\n			\n				\n				\n				\n				\n				 réserver Informations covid\n			\n				\n				\n				\n				\n				Nous invitons les personnes à mobilité réduite ou rencontrant des difficultés à se déplacer\, à prendre contact avec le service billetterie afin de pouvoir les accueillir dans les meilleures conditions. \n			\n			\n				\n				\n				\n				\n				\n			\n				\n				\n				\n				\n			\n				\n				\n			\n				\n				\n				\n				\n				\n				\n				\n				\n				\n				\n				\n				\n				\n				\n				\n				\n				\n				PHILIPPE CAVERIVIÈRE – TU CROIS QUE C’EST UNE BONNE IDÉE ?\nDANS LE CADRE DU FESTIVAL UZÈS SEULS EN SCÈNE #4 \nAvec un humour qui navigue entre le rire et l’émotion\, Caverivière démontre qu’on peut rire de tout\, même des choses les plus douloureuses. Il propose un spectacle « superficiel par profondeur »\, une façon de transformer l’absence en matière à rire. Ce seul-en-scène vous fera découvrir que l’humour est souvent le meilleur moyen de guérir. \nen partenariat avec l’ADAMI \n  \n			\n			\n				\n				\n				\n				\n				\n			\n				\n				\n				\n				\n			\n				\n				\n			\n				\n				\n				\n				\n				\n				\n				\n				\n				\n				\n				\n				\n				\n				\n				\n				\n				\n				Billetterie Weezevent\n			\n			\n				\n				\n				\n				\n			\n				\n				\n			\n				\n				\n				\n				\n				\n				\n				\n				\n				\n				\n				\n				\n				\n				\n				\n				\n				\n				INFO COVID\nEn cas de report des spectacles\, les places achetées resteront valables à la date reportée. Merci de conserver vos e-billets. Aussi\, en cas d’annulation du spectacle\, un remboursement sera effectué. \nL’accès à L’Ombrière se fera sur présentation d’un pass sanitaire\,\nsoit :\n– un test négatif de moins de 48h\n– un certificat d’immunité (il s’agit d’un test RT-PCR ou antigénique positif attestant du rétablissement de la Covid-19\, datant d’au moins 15 jours et de moins de 6 mois).\n– un acte de vaccination (schéma complet). \nPour tous renseignements\, veuillez-vous adresser à la billetterie de L’Ombrière à billetterie.ombriere@ccpaysduzes.fr
URL:https://lombriere.fr/event/philippe-caveriviere-tu-crois-que-cest-une-bonne-idee/
CATEGORIES:2526,FUSS,Stand-up
ATTACH;FMTTYPE=image/png:https://lombriere.fr/wp-content/uploads/2025/12/4.png
END:VEVENT
BEGIN:VEVENT
DTSTART;TZID=Europe/Paris:20260508T210000
DTEND;TZID=Europe/Paris:20260508T220000
DTSTAMP:20260423T093248
CREATED:20260402T090220Z
LAST-MODIFIED:20260417T072047Z
UID:8677-1778274000-1778277600@lombriere.fr
SUMMARY:Comedy Club
DESCRIPTION:Évènement\n				\n			\n			\n				\n				\n				\n				\n			\n				\n				\n			\n				\n				\n				\n				\n				\n				\n				\n				\n				\n				\n				\n				\n				\n				\n				\n				\n				\n				COMEDY CLUB\nFESTIVAL UZÈS SEULS EN SCÈNE \nVendredi 8 mai 202621H – HUMOUR\nPlacement numéroté\nDe 14 € à 28 €\n			\n				\n				\n				\n				\n				 réserver Informations covid\n			\n				\n				\n				\n				\n				Nous invitons les personnes à mobilité réduite ou rencontrant des difficultés à se déplacer\, à prendre contact avec le service billetterie afin de pouvoir les accueillir dans les meilleures conditions. \n			\n			\n				\n				\n				\n				\n				\n			\n				\n				\n				\n				\n			\n				\n				\n			\n				\n				\n				\n				\n				\n				\n				\n				\n				\n				\n				\n				\n				\n				\n				\n				\n				\n				COMEDY CLUB\nDANS LE CADRE DU FESTIVAL UZÈS SEULS EN SCÈNE #4 \nEmbarquez pour une soirée irrésistiblement drôle\, un plateau explosif\, une alchimie de 5 artistes au top de leur créativité. Un Comedy Club façonné par Patrick Timsit avec un seul objectif : vous faire rire !  \nAMANDINE LOURDEL \nYACINE BELHOUSSE \nADEL FUGAZI \nETHAN LALLOUZ \nDENISE (DENIS MICKAËL) \n \n \nEn partenariat avec l’ADAMI  \n			\n			\n				\n				\n				\n				\n				\n			\n				\n				\n				\n				\n			\n				\n				\n			\n				\n				\n				\n				\n				\n				\n				\n				\n				\n				\n				\n				\n				\n				\n				\n				\n				\n				Billetterie Weezevent\n			\n			\n				\n				\n				\n				\n			\n				\n				\n			\n				\n				\n				\n				\n				\n				\n				\n				\n				\n				\n				\n				\n				\n				\n				\n				\n				\n				INFO COVID\nEn cas de report des spectacles\, les places achetées resteront valables à la date reportée. Merci de conserver vos e-billets. Aussi\, en cas d’annulation du spectacle\, un remboursement sera effectué. \nL’accès à L’Ombrière se fera sur présentation d’un pass sanitaire\,\nsoit :\n– un test négatif de moins de 48h\n– un certificat d’immunité (il s’agit d’un test RT-PCR ou antigénique positif attestant du rétablissement de la Covid-19\, datant d’au moins 15 jours et de moins de 6 mois).\n– un acte de vaccination (schéma complet). \nPour tous renseignements\, veuillez-vous adresser à la billetterie de L’Ombrière à billetterie.ombriere@ccpaysduzes.fr
URL:https://lombriere.fr/event/comedy-club-2/
CATEGORIES:2526,FUSS
ATTACH;FMTTYPE=image/png:https://lombriere.fr/wp-content/uploads/2026/03/Microphone-retro-au-coeur-du-club.png
END:VEVENT
BEGIN:VEVENT
DTSTART;TZID=Europe/Paris:20260509T200000
DTEND;TZID=Europe/Paris:20260509T220000
DTSTAMP:20260423T093248
CREATED:20251218T104705Z
LAST-MODIFIED:20260327T120924Z
UID:8536-1778356800-1778364000@lombriere.fr
SUMMARY:BERNARD LAVILLIERS
DESCRIPTION:Évènement\n				\n			\n			\n				\n				\n				\n				\n			\n				\n				\n			\n				\n				\n				\n				\n				\n				\n				\n				\n				\n				\n				\n				\n				\n				\n				\n				\n				\n				BERNARD LAVILLIERS\nLE COMPTOIR DES VOYAGEURS AVEC MAHUT \nFESTIVAL UZÈS SEULS EN SCÈNE \nSamedi 9 mai 202620H – CONCERT\nPlacement numéroté\nDe 21 € à 44 €\n			\n				\n				\n				\n				\n				 réserver Informations covid\n			\n				\n				\n				\n				\n				Nous invitons les personnes à mobilité réduite ou rencontrant des difficultés à se déplacer\, à prendre contact avec le service billetterie afin de pouvoir les accueillir dans les meilleures conditions. \n			\n			\n				\n				\n				\n				\n				\n			\n				\n				\n				\n				\n			\n				\n				\n			\n				\n				\n				\n				\n				\n				\n				\n				\n				\n				\n				\n				\n				\n				\n				\n				\n				\n				BERNARD LAVILLIERS\nLE COMPTOIR DES VOYAGEURSAVEC MAHUTDANS LE CADRE DU FESTIVAL UZÈS SEULS EN SCÈNE #4 \nA l’occasion d’une soirée exceptionnelle dans le cadre du festival Uzès Seuls en Scène\, Bernard Lavilliers en compagnie de son ami et complice Mahut nous embarqueront pour un concert unique intimiste et chaleureux. \nCes retrouvailles musicales seront pour nous l’occasion privilégiée d’être les témoins de cette amitié au long cours. \nComme autant de cartes postales réécrites à quatre mains\, une guitare et autant d’instruments de percussion de tous horizons\, ils revisiteront\, San Salvador\, Sertao\, On the road again\, nous retrouverons Betty\, les Mains d’Or\, ainsi que quelques poètes qu’ils affectionnent. \nen partenariat avec l’ADAMI \n			\n			\n				\n				\n				\n				\n				\n			\n				\n				\n				\n				\n			\n				\n				\n			\n				\n				\n				\n				\n				\n				\n				\n				\n				\n				\n				\n				\n				\n				\n				\n				\n				\n				Billetterie Weezevent\n			\n			\n				\n				\n				\n				\n			\n				\n				\n			\n				\n				\n				\n				\n				\n				\n				\n				\n				\n				\n				\n				\n				\n				\n				\n				\n				\n				INFO COVID\nEn cas de report des spectacles\, les places achetées resteront valables à la date reportée. Merci de conserver vos e-billets. Aussi\, en cas d’annulation du spectacle\, un remboursement sera effectué. \nL’accès à L’Ombrière se fera sur présentation d’un pass sanitaire\,\nsoit :\n– un test négatif de moins de 48h\n– un certificat d’immunité (il s’agit d’un test RT-PCR ou antigénique positif attestant du rétablissement de la Covid-19\, datant d’au moins 15 jours et de moins de 6 mois).\n– un acte de vaccination (schéma complet). \nPour tous renseignements\, veuillez-vous adresser à la billetterie de L’Ombrière à billetterie.ombriere@ccpaysduzes.fr
URL:https://lombriere.fr/event/bernard-lavilliers/
CATEGORIES:2526,FUSS,Musique
ATTACH;FMTTYPE=image/png:https://lombriere.fr/wp-content/uploads/2025/12/3.png
END:VEVENT
BEGIN:VEVENT
DTSTART;TZID=Europe/Paris:20260509T220000
DTEND;TZID=Europe/Paris:20260509T230000
DTSTAMP:20260423T093248
CREATED:20260410T072704Z
LAST-MODIFIED:20260416T164018Z
UID:8703-1778364000-1778367600@lombriere.fr
SUMMARY:Philippe Corti
DESCRIPTION:Évènement\n				\n			\n			\n				\n				\n				\n				\n			\n				\n				\n			\n				\n				\n				\n				\n				\n				\n				\n				\n				\n				\n				\n				\n				\n				\n				\n				\n				\n				PHILIPPE CORTI\nFESTIVAL UZÈS SEULS EN SCÈNE \nSamedi 9 mai 2026à partir de 22H – DJ SET\nFOSSE\n5€\n			\n				\n				\n				\n				\n				 réserver Informations covid\n			\n				\n				\n				\n				\n				Nous invitons les personnes à mobilité réduite ou rencontrant des difficultés à se déplacer\, à prendre contact avec le service billetterie afin de pouvoir les accueillir dans les meilleures conditions. \n			\n			\n				\n				\n				\n				\n				\n			\n				\n				\n				\n				\n			\n				\n				\n			\n				\n				\n				\n				\n				\n				\n				\n				\n				\n				\n				\n				\n				\n				\n				\n				\n				\n				PHILIPPE CORTI\nDANS LE CADRE DU FESTIVAL UZÈS SEULS EN SCÈNE #4 \nFigure emblématique des nuits festives\, Philippe Corti enflamme chaque scène avec son énergie contagieuse et son sens inné du rythme. Entre classiques indémodables\, pépites inattendues et mix éclectiques\, il crée une ambiance chaleureuse et fédératrice !  \nEn partenariat avec l’ADAMI  \n			\n			\n				\n				\n				\n				\n				\n			\n				\n				\n				\n				\n			\n				\n				\n			\n				\n				\n				\n				\n				\n				\n				\n				\n				\n				\n				\n				\n				\n				\n				\n				\n				\n				Billetterie Weezevent\n			\n			\n				\n				\n				\n				\n			\n				\n				\n			\n				\n				\n				\n				\n				\n				\n				\n				\n				\n				\n				\n				\n				\n				\n				\n				\n				\n				INFO COVID\nEn cas de report des spectacles\, les places achetées resteront valables à la date reportée. Merci de conserver vos e-billets. Aussi\, en cas d’annulation du spectacle\, un remboursement sera effectué. \nL’accès à L’Ombrière se fera sur présentation d’un pass sanitaire\,\nsoit :\n– un test négatif de moins de 48h\n– un certificat d’immunité (il s’agit d’un test RT-PCR ou antigénique positif attestant du rétablissement de la Covid-19\, datant d’au moins 15 jours et de moins de 6 mois).\n– un acte de vaccination (schéma complet). \nPour tous renseignements\, veuillez-vous adresser à la billetterie de L’Ombrière à billetterie.ombriere@ccpaysduzes.fr
URL:https://lombriere.fr/event/philippe-corti/
CATEGORIES:2526,FUSS,Musique
ATTACH;FMTTYPE=image/jpeg:https://lombriere.fr/wp-content/uploads/2026/03/PHOTO-2026-03-20-12-47-09.jpg
END:VEVENT
BEGIN:VEVENT
DTSTART;TZID=Europe/Paris:20260529T160000
DTEND;TZID=Europe/Paris:20260531T230000
DTSTAMP:20260423T093248
CREATED:20260317T151839Z
LAST-MODIFIED:20260326T144838Z
UID:8636-1780070400-1780268400@lombriere.fr
SUMMARY:l’Uzès Symphonic Gaming Festival
DESCRIPTION:Évènement\n				\n			\n			\n				\n				\n				\n				\n			\n				\n				\n			\n				\n				\n				\n				\n				\n				\n				\n				\n				\n				\n				\n				\n				\n				\n				\n				\n				\n				\n l’Uzès Symphonic Gaming Festival\nFESTIVAL \n  \n \nVen. 29 mai 2026 à 16h00au dim. 31 mai 2026 à 22h00 L’Ombrière\, Pays d’Uzès\n\nDe 30€ à 130€\n  \n\n			\n				\n				\n				\n				\n				 réserver Informations covid\n			\n				\n				\n				\n				\n				\n				\n				\n				\n				\n				Nous invitons les personnes à mobilité réduite ou rencontrant des difficultés à se déplacer\, à prendre contact avec le service billetterie afin de pouvoir les accueillir dans les meilleures conditions. \n			\n			\n			\n				\n				\n				\n				\n				\n			\n				\n				\n				\n				\n			\n				\n				\n			\n				\n				\n				\n				\n				\n				\n				\n				\n				\n				\n				\n				\n				\n				\n				\n				\n				\n				Du 29 au 31 mai 2026\, l’Uzès Symphonic Gaming Festival revient à L’Ombrière\, Pays d’Uzès pour une deuxième édition spectaculaire dédiée aux plus belles musiques de jeu vidéo.Pendant trois jours\, orchestre symphonique de 60 musiciens\, chœurs et créateurs de contenus se réunissent pour célébrer cet univers à travers concerts\, ciné-concerts et conférences.À la croisée de la culture geek et du spectacle vivant\, le festival fait découvrir toute la richesse et la puissance émotionnelle des musiques de jeux vidéo.Un rendez-vous unique qui réunit passionnés\, mélomanes et curieux autour d’une expérience musicale immersive.  \n			\n			\n				\n				\n				\n				\n				\n			\n				\n				\n				\n				\n			\n				\n				\n				\n				\n				\n				\n								\n					\n												← Précédent\n					\n				\n			\n			\n			\n				\n				\n				\n				\n			\n				\n				\n			\n				\n				\n				\n				\n				\n				\n				\n				\n				\n				\n				\n				\n				\n				\n				\n				\n				\n				Billetterie Weezevent\n\n\n\n			\n			\n				\n				\n				\n				\n			\n				\n				\n			\n				\n				\n				\n				\n				\n				\n				\n				\n				\n				\n				\n				\n				\n				\n				\n				\n				\n				\n				\n				\n				\n				\n				INFO COVID\nEn cas de report des spectacles\, les places achetées resteront valables à la date reportée. Merci de conserver vos e-billets. Aussi\, en cas d’annulation du spectacle\, un remboursement sera effectué. \nL’accès à L’Ombrière se fera sur présentation d’un pass vaccinal\,soit :- Une certification de vaccination (schéma vaccinal complet\, dose de rappel comprise dans le délai imparti pour les personnes à partir de 18 ans et 1 mois qui y sont éligibles) ;- Un certificat de rétablissement de plus de 11 jours et moins de six mois ;- Un certificat de contre-indication à la vaccination \nPour tous renseignements\, veuillez-vous adresser à la billetterie de L’Ombrière à billetterie.ombriere@ccpaysduzes.fr
URL:https://lombriere.fr/event/luzes-symphonic-gaming-festival/
CATEGORIES:2526,Musique
ATTACH;FMTTYPE=image/png:https://lombriere.fr/wp-content/uploads/2026/03/usg-site-ombriere.png
END:VEVENT
END:VCALENDAR